BEGIN:VCALENDAR
VERSION:2.0
PRODID:-//Cabbagetown Residents Association - CRA - ECPv4.9.12//NONSGML v1.0//EN
CALSCALE:GREGORIAN
METHOD:PUBLISH
X-WR-CALNAME:Cabbagetown Residents Association - CRA
X-ORIGINAL-URL:https://cabbagetowner.com
X-WR-CALDESC:Events for Cabbagetown Residents Association - CRA
BEGIN:VTIMEZONE
TZID:America/Toronto
BEGIN:DAYLIGHT
TZOFFSETFROM:-0500
TZOFFSETTO:-0400
TZNAME:EDT
DTSTART:20180311T070000
END:DAYLIGHT
BEGIN:STANDARD
TZOFFSETFROM:-0400
TZOFFSETTO:-0500
TZNAME:EST
DTSTART:20181104T060000
END:STANDARD
END:VTIMEZONE
BEGIN:VEVENT
DTSTART;TZID=America/Toronto:20180704T180000
DTEND;TZID=America/Toronto:20180704T193000
DTSTAMP:20260420T005419
CREATED:20180421T175405Z
LAST-MODIFIED:20180625T080019Z
UID:12848-1530727200-1530732600@cabbagetowner.com
SUMMARY:ROM Walks: Necropolis
DESCRIPTION:Toronto’s oldest non-denominational cemetery\, the Necropolis is the final resting place of rebels and reformers as well as many of Toronto’s early residents. Look for the purple umbrella to join this free ROM tour. \n
URL:https://cabbagetowner.com/event/rom-walks-necropolis-2/
LOCATION:Necropolis – meet in front of the cemetery office.\, Select a Country:
END:VEVENT
END:VCALENDAR