BEGIN:VCALENDAR
VERSION:2.0
PRODID:-//Cabbagetown Residents Association - CRA - ECPv4.9.12//NONSGML v1.0//EN
CALSCALE:GREGORIAN
METHOD:PUBLISH
X-WR-CALNAME:Cabbagetown Residents Association - CRA
X-ORIGINAL-URL:https://cabbagetowner.com
X-WR-CALDESC:Events for Cabbagetown Residents Association - CRA
BEGIN:VTIMEZONE
TZID:America/Toronto
BEGIN:DAYLIGHT
TZOFFSETFROM:-0500
TZOFFSETTO:-0400
TZNAME:EDT
DTSTART:20110313T070000
END:DAYLIGHT
BEGIN:STANDARD
TZOFFSETFROM:-0400
TZOFFSETTO:-0500
TZNAME:EST
DTSTART:20111106T060000
END:STANDARD
END:VTIMEZONE
BEGIN:VEVENT
DTSTART;VALUE=DATE:20110712
DTEND;VALUE=DATE:20110713
DTSTAMP:20260422T114832
CREATED:20110706T132827Z
LAST-MODIFIED:20110706T132827Z
UID:837-1310428800-1310515140@cabbagetowner.com
SUMMARY:Riverdale Farmer's Market - every Tuesday
DESCRIPTION:Riverdale Farm Farmers’ Market is in its eleventh season in 2011. The Market operates from 3:00 PM to 7:00 PM each Tuesday May 17th to October 25th. Market is located in Riverdale Park West\, \nThe Friends of Riverdale Farmers’ Market strives to be an Organic Market. All vendors must be certified organic or in transition with the following exceptions: farmers who participated in the first market season. Farmers who raise meat or poultry as part of their agricultural management system may sell them if they are free range and with minimum medication. Crops where the availability of organic product is limited. All produce must be clearly labelled. \nMore info available here. \n
URL:https://cabbagetowner.com/event/riverdale-farmers-market-every-tuesday/
CATEGORIES:Uncategorized
END:VEVENT
END:VCALENDAR