BEGIN:VCALENDAR
VERSION:2.0
PRODID:-//Cabbagetown Residents Association - CRA - ECPv4.9.12//NONSGML v1.0//EN
CALSCALE:GREGORIAN
METHOD:PUBLISH
X-WR-CALNAME:Cabbagetown Residents Association - CRA
X-ORIGINAL-URL:https://cabbagetowner.com
X-WR-CALDESC:Events for Cabbagetown Residents Association - CRA
BEGIN:VTIMEZONE
TZID:America/Toronto
BEGIN:DAYLIGHT
TZOFFSETFROM:-0500
TZOFFSETTO:-0400
TZNAME:EDT
DTSTART:20120311T070000
END:DAYLIGHT
BEGIN:STANDARD
TZOFFSETFROM:-0400
TZOFFSETTO:-0500
TZNAME:EST
DTSTART:20121104T060000
END:STANDARD
END:VTIMEZONE
BEGIN:VEVENT
DTSTART;VALUE=DATE:20120126
DTEND;VALUE=DATE:20120127
DTSTAMP:20260423T191908
CREATED:20120123T011115Z
LAST-MODIFIED:20120123T011115Z
UID:997-1327536000-1327622340@cabbagetowner.com
SUMMARY:Public Open House - Sherbourne bike lanes
DESCRIPTION:A Public Open House is scheduled to review designs for improved bike lanes on Sherbourne Street. \nDate: Thursday\, January 26\, 2012\nTime: 5 p.m. to 8 p.m.\nLocation: Our Lady of Lourdes Catholic School\, 444 Sherbourne Street (at Wellesley) \nBackground\nThe existing Sherbourne Street bike lanes were installed in 1996. On July 12\, 2011\, City Council directed City staff to proceed with detailed design and consultation to upgrade the Sherbourne bike lanes with the aim to better separate cars and bikes and improve safety for cyclists. The construction of the upgraded bike lanes is scheduled to start in summer 2012 in combination with the resurfacing of Sherbourne Street.  \n
URL:https://cabbagetowner.com/event/public-open-house-sherbourne-bike-lanes/
LOCATION:Our Lady of Lourdes Catholic School\, 444 Sherbourne Street (at Wellesley)\, Canada
CATEGORIES:Uncategorized
END:VEVENT
END:VCALENDAR