BEGIN:VCALENDAR
VERSION:2.0
PRODID:-//Cabbagetown Residents Association - CRA - ECPv4.9.12//NONSGML v1.0//EN
CALSCALE:GREGORIAN
METHOD:PUBLISH
X-WR-CALNAME:Cabbagetown Residents Association - CRA
X-ORIGINAL-URL:https://cabbagetowner.com
X-WR-CALDESC:Events for Cabbagetown Residents Association - CRA
BEGIN:VTIMEZONE
TZID:America/Toronto
BEGIN:DAYLIGHT
TZOFFSETFROM:-0500
TZOFFSETTO:-0400
TZNAME:EDT
DTSTART:20120311T070000
END:DAYLIGHT
BEGIN:STANDARD
TZOFFSETFROM:-0400
TZOFFSETTO:-0500
TZNAME:EST
DTSTART:20121104T060000
END:STANDARD
END:VTIMEZONE
BEGIN:VEVENT
DTSTART;VALUE=DATE:20120208
DTEND;VALUE=DATE:20120209
DTSTAMP:20260423T205650
CREATED:20120118T140802Z
LAST-MODIFIED:20120118T141442Z
UID:992-1328659200-1328745540@cabbagetowner.com
SUMMARY:Presentation - Youth & Criminal Justice in Toronto - Feb 8th
DESCRIPTION:Glen Crisp\, Assistant Crown Attorney\, downtown Toronto is hosting a criminal justice presentation. \nEveryone is welcome! Young & old! Kids\, teenagers\, adults of all ages including parents & grandparents. If you are interested in learning about criminal justice please join us! \nPresented by: Glen Crisp – Assistant Crown Attorney\, Downtown Toronto\nDate: Wednesday\, February 8th\nTime: 6:30pm to 8pm\nPlace: St Lawrence Community Centre – Adult Lounge (refreshments provided)\nCost: Free\nContact: criminaljusticetoronto@gmail.com for more info \nPlease join us\,\nDVCRA Board \n
URL:https://cabbagetowner.com/event/presentation-youth-criminal-justice-in-toronto-feb-8th/
LOCATION:St. Lawrence Community Centre – Adult Lounge\, Canada
CATEGORIES:Uncategorized
END:VEVENT
END:VCALENDAR