BEGIN:VCALENDAR
VERSION:2.0
PRODID:-//Cabbagetown Residents Association - CRA - ECPv4.9.12//NONSGML v1.0//EN
CALSCALE:GREGORIAN
METHOD:PUBLISH
X-WR-CALNAME:Cabbagetown Residents Association - CRA
X-ORIGINAL-URL:https://cabbagetowner.com
X-WR-CALDESC:Events for Cabbagetown Residents Association - CRA
BEGIN:VTIMEZONE
TZID:America/Toronto
BEGIN:DAYLIGHT
TZOFFSETFROM:-0500
TZOFFSETTO:-0400
TZNAME:EDT
DTSTART:20110313T070000
END:DAYLIGHT
BEGIN:STANDARD
TZOFFSETFROM:-0400
TZOFFSETTO:-0500
TZNAME:EST
DTSTART:20111106T060000
END:STANDARD
END:VTIMEZONE
BEGIN:VEVENT
DTSTART;VALUE=DATE:20111124
DTEND;VALUE=DATE:20111125
DTSTAMP:20260423T143627
CREATED:20111112T180650Z
LAST-MODIFIED:20111112T180650Z
UID:961-1322092800-1322179140@cabbagetowner.com
SUMMARY:Online Survey - City Parks Plan
DESCRIPTION:The City wants your input on the Parks Plan: Complete the online survey now. \nIn 2010\, City Council approved the development of a City-wide Parks Plan based on seven guiding principles: parks and trails as city infrastructure\, equitable access for all residents\, supporting a diversity of uses\, nature in the city\, environmental stewardship\, place making and community engagement. The Parks Plan will guide acquisition\, development\, management and operation of the system of public parkland in the City of Toronto over a five-year period. \nThe City is interested in your input.  Please take the time to complete the online survey. [link to http://wx.toronto.ca/inter/pfr/parksplan.nsf/survey?openform] \nor attend the upcoming public consultation on November 24\, 2011\, 7 pm to 9 pm at Wellesley Community Centre [link to http://www.toronto.ca/parks/engagement/parksplan/consultation.htm] \n
URL:https://cabbagetowner.com/event/online-survey-city-parks-plan/
LOCATION:Wellesley Community Centre\, Canada
CATEGORIES:Uncategorized
END:VEVENT
END:VCALENDAR