BEGIN:VCALENDAR
VERSION:2.0
PRODID:-//Cabbagetown Residents Association - CRA - ECPv4.9.12//NONSGML v1.0//EN
CALSCALE:GREGORIAN
METHOD:PUBLISH
X-WR-CALNAME:Cabbagetown Residents Association - CRA
X-ORIGINAL-URL:https://cabbagetowner.com
X-WR-CALDESC:Events for Cabbagetown Residents Association - CRA
BEGIN:VTIMEZONE
TZID:America/Toronto
BEGIN:DAYLIGHT
TZOFFSETFROM:-0500
TZOFFSETTO:-0400
TZNAME:EDT
DTSTART:20120311T070000
END:DAYLIGHT
BEGIN:STANDARD
TZOFFSETFROM:-0400
TZOFFSETTO:-0500
TZNAME:EST
DTSTART:20121104T060000
END:STANDARD
END:VTIMEZONE
BEGIN:VEVENT
DTSTART;VALUE=DATE:20120411
DTEND;VALUE=DATE:20120415
DTSTAMP:20260424T042113
CREATED:20120323T004722Z
LAST-MODIFIED:20120323T004722Z
UID:1057-1334102400-1334447940@cabbagetowner.com
SUMMARY:Momentum Dance Toronto Presents Projections
DESCRIPTION:The show is being performed at the Winchester Street Theatre this coming Wednesday April 11th – Saturday\, Aprl 14th.   \nFurther information about the show can be found at www.momentumdancetoronto.com \nPlease contact info@momentumdancetoronto.com\, if you have any questions or would like further information about this upcoming production. \n
URL:https://cabbagetowner.com/event/momentum-dance-toronto-presents-projections/
LOCATION:Winchester Street Theatre\, Canada
CATEGORIES:Uncategorized
END:VEVENT
END:VCALENDAR