BEGIN:VCALENDAR
VERSION:2.0
PRODID:-//Cabbagetown Residents Association - CRA - ECPv4.9.12//NONSGML v1.0//EN
CALSCALE:GREGORIAN
METHOD:PUBLISH
X-WR-CALNAME:Cabbagetown Residents Association - CRA
X-ORIGINAL-URL:https://cabbagetowner.com
X-WR-CALDESC:Events for Cabbagetown Residents Association - CRA
BEGIN:VTIMEZONE
TZID:America/Toronto
BEGIN:DAYLIGHT
TZOFFSETFROM:-0500
TZOFFSETTO:-0400
TZNAME:EDT
DTSTART:20110313T070000
END:DAYLIGHT
BEGIN:STANDARD
TZOFFSETFROM:-0400
TZOFFSETTO:-0500
TZNAME:EST
DTSTART:20111106T060000
END:STANDARD
END:VTIMEZONE
BEGIN:VEVENT
DTSTART;VALUE=DATE:20111120
DTEND;VALUE=DATE:20111121
DTSTAMP:20260423T124018
CREATED:20111120T222914Z
LAST-MODIFIED:20111120T223235Z
UID:966-1321747200-1321833540@cabbagetowner.com
SUMMARY:Friends of the Farm - Annual Christmas Preview Party and Sale
DESCRIPTION:Shop for Christmas at the Riverdale Farm – it will be open every weekend until Christmas.\nBeautiful handcrafts\, children’s toys\, books\, local preserves\, gift cards\, Christmas decorations and so much more in Simpson House.  \n
URL:https://cabbagetowner.com/event/friends-of-the-farm-annual-christmas-preview-party-and-sale/
CATEGORIES:Uncategorized
END:VEVENT
END:VCALENDAR