BEGIN:VCALENDAR
VERSION:2.0
PRODID:-//Cabbagetown Residents Association - CRA - ECPv4.9.12//NONSGML v1.0//EN
CALSCALE:GREGORIAN
METHOD:PUBLISH
X-WR-CALNAME:Cabbagetown Residents Association - CRA
X-ORIGINAL-URL:https://cabbagetowner.com
X-WR-CALDESC:Events for Cabbagetown Residents Association - CRA
BEGIN:VTIMEZONE
TZID:America/Toronto
BEGIN:DAYLIGHT
TZOFFSETFROM:-0500
TZOFFSETTO:-0400
TZNAME:EDT
DTSTART:20110313T070000
END:DAYLIGHT
BEGIN:STANDARD
TZOFFSETFROM:-0400
TZOFFSETTO:-0500
TZNAME:EST
DTSTART:20111106T060000
END:STANDARD
END:VTIMEZONE
BEGIN:VEVENT
DTSTART;TZID=America/Toronto:20110710T140000
DTEND;TZID=America/Toronto:20110710T150000
DTSTAMP:20260422T101844
CREATED:20110429T174338Z
LAST-MODIFIED:20110429T180438Z
UID:773-1310306400-1310310000@cabbagetowner.com
SUMMARY:Event - Wall Art Tour (July 10)
DESCRIPTION:Can you find the Wizard & the Princess\, a Purple Dragon or the Karate Kid in our neighborhood?  \nThis is not graffiti tagging but legitimate outdoor wall art.  We bet that you will surprised and delighted by what you find.  This one hour tour will take you through Cabbagetown and is a great way to get some exercise and fresh air after work or on the weekend.   \nA Guided Tour is being offered on July 10th at 2PM. See www.cabbagetownsouth.ca additional information and for the meeting place.    \n
URL:https://cabbagetowner.com/event/event-wall-art-tour/
END:VEVENT
END:VCALENDAR