BEGIN:VCALENDAR
VERSION:2.0
PRODID:-//Cabbagetown Residents Association - CRA - ECPv4.9.12//NONSGML v1.0//EN
CALSCALE:GREGORIAN
METHOD:PUBLISH
X-WR-CALNAME:Cabbagetown Residents Association - CRA
X-ORIGINAL-URL:https://cabbagetowner.com
X-WR-CALDESC:Events for Cabbagetown Residents Association - CRA
BEGIN:VTIMEZONE
TZID:America/Toronto
BEGIN:DAYLIGHT
TZOFFSETFROM:-0500
TZOFFSETTO:-0400
TZNAME:EDT
DTSTART:20110313T070000
END:DAYLIGHT
BEGIN:STANDARD
TZOFFSETFROM:-0400
TZOFFSETTO:-0500
TZNAME:EST
DTSTART:20111106T060000
END:STANDARD
END:VTIMEZONE
BEGIN:VEVENT
DTSTART;VALUE=DATE:20111101
DTEND;VALUE=DATE:20111102
DTSTAMP:20260423T093109
CREATED:20111015T132435Z
LAST-MODIFIED:20111015T132435Z
UID:951-1320105600-1320191940@cabbagetowner.com
SUMMARY:Event - Maureen Jennings presents The Murdoch Mysteries
DESCRIPTION:The Cabbagetown Regent Park Community Museum presents Maureen Jennings\, the award-winning author and creator of The Murdoch Mysteries. \nWhen: Tuesday\, November 1 at 7pm\nWhere: Winchester Street Theatre at 80 Winchester St.\nExtras: Meet the author\, buy books\, enjoy refreshments\nCost: $60 single ticket or two for $100 (Tax receipt $50 or $80 respectively) \nFor tickets online please visit www.crpmuseum.com\nFor more information please email sales@crpmuseum.com  \n
URL:https://cabbagetowner.com/event/event-maureen-jennings-presents-the-murdoch-mysteries/
LOCATION:Winchester Street Theatre\, Canada
CATEGORIES:Uncategorized
END:VEVENT
END:VCALENDAR