BEGIN:VCALENDAR
VERSION:2.0
PRODID:-//Cabbagetown Residents Association - CRA - ECPv4.9.12//NONSGML v1.0//EN
CALSCALE:GREGORIAN
METHOD:PUBLISH
X-WR-CALNAME:Cabbagetown Residents Association - CRA
X-ORIGINAL-URL:https://cabbagetowner.com
X-WR-CALDESC:Events for Cabbagetown Residents Association - CRA
BEGIN:VTIMEZONE
TZID:America/Toronto
BEGIN:DAYLIGHT
TZOFFSETFROM:-0500
TZOFFSETTO:-0400
TZNAME:EDT
DTSTART:20110313T070000
END:DAYLIGHT
BEGIN:STANDARD
TZOFFSETFROM:-0400
TZOFFSETTO:-0500
TZNAME:EST
DTSTART:20111106T060000
END:STANDARD
END:VTIMEZONE
BEGIN:VEVENT
DTSTART;VALUE=DATE:20111023
DTEND;VALUE=DATE:20111024
DTSTAMP:20260423T044732
CREATED:20111007T180951Z
LAST-MODIFIED:20111007T180951Z
UID:944-1319328000-1319414340@cabbagetowner.com
SUMMARY:Event - Fall Cabbagetown - Tree Tour
DESCRIPTION:Fall Cabbagetown – Tree Tour\nSunday\, October 23\, 2011 from 11:00 a.m. to 12:30 p.m.\nMeet at the North East Corner of Carlton St. at Parliament St. at 11:00 a.m. \nFREE to DVCRA members \nJoin LEAF (Local Enhancement & Appreciation of Forests) and the Don Vale Cabbagetown Residents Association for a tour of one of Toronto’s most scenic and historic neighbourhoods.  We’ll learn about the gentle giants that make this area so unique\, and the stresses these trees will face in the coming years.  Amanda Gomm (LEAF) will share simple tree identification tips\, point out specific species of interest and provide tree care tips.  She’ll also highlight the role of the emerald ash borer will play in reducing Toronto’s tree canopy by an estimated 8.4%. \nIf you are a DVCRA member\, please RSVP by emailing: info@cabbagetowner.com \n
URL:https://cabbagetowner.com/event/event-fall-cabbagetown-tree-tour/
LOCATION:Meet at the North East Corner of Carlton St. at Parliament St.\, Canada
CATEGORIES:Uncategorized
END:VEVENT
END:VCALENDAR