BEGIN:VCALENDAR
VERSION:2.0
PRODID:-//Cabbagetown Residents Association - CRA - ECPv4.9.12//NONSGML v1.0//EN
CALSCALE:GREGORIAN
METHOD:PUBLISH
X-WR-CALNAME:Cabbagetown Residents Association - CRA
X-ORIGINAL-URL:https://cabbagetowner.com
X-WR-CALDESC:Events for Cabbagetown Residents Association - CRA
BEGIN:VTIMEZONE
TZID:America/Toronto
BEGIN:DAYLIGHT
TZOFFSETFROM:-0500
TZOFFSETTO:-0400
TZNAME:EDT
DTSTART:20110313T070000
END:DAYLIGHT
BEGIN:STANDARD
TZOFFSETFROM:-0400
TZOFFSETTO:-0500
TZNAME:EST
DTSTART:20111106T060000
END:STANDARD
END:VTIMEZONE
BEGIN:VEVENT
DTSTART;VALUE=DATE:20110922
DTEND;VALUE=DATE:20110923
DTSTAMP:20260422T201736
CREATED:20110827T134151Z
LAST-MODIFIED:20110827T134151Z
UID:877-1316649600-1316735940@cabbagetowner.com
SUMMARY:Event - A Taste for the Arts
DESCRIPTION:On Thursday\, September 22nd the Cabbagetown Community Arts Centre will be hosting “A Taste for the Arts.” \nThis is their 5th moveable feast and the main annual fundraising event for the Centre. They will be visiting three beautiful Cabbagetown Homes. At each stop there will be a special course presented by the chefs from JAMcafé\, The Winchester Kitchen and Catering for You. The music and wine will be free flowing\, and the evening will end at the Centre with champagne\, dessert and the vocal harmony of JAMsession Quartet. \nFor information about A Taste for the Arts and the Cabbagetown Community Arts Centre\, please visit www.cabbagetownarts.org\n\nTickets go on sale September 6th \n
URL:https://cabbagetowner.com/event/event-a-taste-for-the-arts/
CATEGORIES:Uncategorized
END:VEVENT
END:VCALENDAR