BEGIN:VCALENDAR
VERSION:2.0
PRODID:-//Cabbagetown Residents Association - CRA - ECPv4.9.12//NONSGML v1.0//EN
CALSCALE:GREGORIAN
METHOD:PUBLISH
X-WR-CALNAME:Cabbagetown Residents Association - CRA
X-ORIGINAL-URL:https://cabbagetowner.com
X-WR-CALDESC:Events for Cabbagetown Residents Association - CRA
BEGIN:VTIMEZONE
TZID:America/Toronto
BEGIN:DAYLIGHT
TZOFFSETFROM:-0500
TZOFFSETTO:-0400
TZNAME:EDT
DTSTART:20120311T070000
END:DAYLIGHT
BEGIN:STANDARD
TZOFFSETFROM:-0400
TZOFFSETTO:-0500
TZNAME:EST
DTSTART:20121104T060000
END:STANDARD
END:VTIMEZONE
BEGIN:VEVENT
DTSTART;VALUE=DATE:20120301
DTEND;VALUE=DATE:20120302
DTSTAMP:20260424T011536
CREATED:20120214T014623Z
LAST-MODIFIED:20120214T014623Z
UID:1015-1330560000-1330646340@cabbagetowner.com
SUMMARY:Community Event - Sprucecourt P.S. Open House
DESCRIPTION:Dear Cabbagetown Parents\, \nBeginning in September 2012\, the local public school in the Cabbagetown area will be Sprucecourt Public school\, located on Spruce Street.  If you have a child born in 2008 or after\, Sprucecourt will be their home school.  \nThe Chairs of the DVCRA Schools Portfolio have been working hard to disseminate information about our local schools in order to help parents make informed decisions about their options regarding schools in the neighbourhood.  In response to our schools survey results\, which showed a distinct absence of Cabbagetown children from the Sprucecourt population\, we have been working with the Principal at Sprucecourt\, Baila Goldfarb\, to organise an open house for prospective parents.  \nIf you have a child born in 2008 or after\, please join us on Thursday\, March 1st from 3:15-4:00pm in the Parenting Centre at Sprucecourt Public School.  Leah Kearny\, an Early Years Instructional Leader for the Toronto District School Board will be speaking about Full Day Kindergarten\, and Baila Goldfarb will be giving tours of the Kindergarten rooms and answering questions you might have. We also have a few parents whose children are currently enrolled at Sprucecourt available to answer any questions\, from a parent’s perspective\, that you may have.  \nIf you have any questions or topics you would like addressed\, please send them to.  info@cabbagetowner.com  in advance of the open house.    \nWe hope to see you at this event\, and please forward this email to neighbours with children who may not be members of the DVCRA.  Even if you have already made a decision regarding schooling\, or it seems a long way in the future\, you are welcome to come and see the school for yourself\, meet future classmates and learn more about this neighbourhood gem.  \nKind regards\, \nLindsay Whitfield and Trish Finkelstein\nCo-Chairs of the DVCRA Schools Portfolio   \n
URL:https://cabbagetowner.com/event/community-event-sprucecourt-p-s-open-house/
CATEGORIES:Uncategorized
END:VEVENT
END:VCALENDAR