BEGIN:VCALENDAR
VERSION:2.0
PRODID:-//Cabbagetown Residents Association - CRA - ECPv4.9.12//NONSGML v1.0//EN
CALSCALE:GREGORIAN
METHOD:PUBLISH
X-WR-CALNAME:Cabbagetown Residents Association - CRA
X-ORIGINAL-URL:https://cabbagetowner.com
X-WR-CALDESC:Events for Cabbagetown Residents Association - CRA
BEGIN:VTIMEZONE
TZID:America/Toronto
BEGIN:DAYLIGHT
TZOFFSETFROM:-0500
TZOFFSETTO:-0400
TZNAME:EDT
DTSTART:20180311T070000
END:DAYLIGHT
BEGIN:STANDARD
TZOFFSETFROM:-0400
TZOFFSETTO:-0500
TZNAME:EST
DTSTART:20181104T060000
END:STANDARD
END:VTIMEZONE
BEGIN:VEVENT
DTSTART;TZID=America/Toronto:20180610T103000
DTEND;TZID=America/Toronto:20180610T120000
DTSTAMP:20260422T202607
CREATED:20180413T190645Z
LAST-MODIFIED:20180413T190645Z
UID:12810-1528626600-1528632000@cabbagetowner.com
SUMMARY:Cabbagetown: Tales of Winchester Street
DESCRIPTION:Hosted by Heritage Toronto\, this tour is free but a $10 donation is suggested. \n \nTake a stroll down Winchester Street\, known as “stroller alley” for the children taken to Riverdale Farm on weekends. Learn about the street’s long history connecting people and institutions — including Riverdale Zoo\, Necropolis cemetery\, and Riverdale Park — as the main route between the area and Toronto’s downtown before 1918. \nNOTE: The tour travels mainly on flat sidewalks\, but includes one steep hill. \nStart Point: Eastern end of Winchester Street (200 Winchester Street)\nEnd Point: Winchester Street Public School (15 Prospect Street\, west side of the building) \n  \n
URL:https://cabbagetowner.com/event/cabbagetown-tales-of-winchester-street/
LOCATION:Winchester Street\, 200 Winchester Street East\, Toronto\, ON\, Canada
END:VEVENT
END:VCALENDAR