BEGIN:VCALENDAR
VERSION:2.0
PRODID:-//Cabbagetown Residents Association - CRA - ECPv4.9.12//NONSGML v1.0//EN
CALSCALE:GREGORIAN
METHOD:PUBLISH
X-WR-CALNAME:Cabbagetown Residents Association - CRA
X-ORIGINAL-URL:https://cabbagetowner.com
X-WR-CALDESC:Events for Cabbagetown Residents Association - CRA
BEGIN:VTIMEZONE
TZID:America/Toronto
BEGIN:DAYLIGHT
TZOFFSETFROM:-0500
TZOFFSETTO:-0400
TZNAME:EDT
DTSTART:20180311T070000
END:DAYLIGHT
BEGIN:STANDARD
TZOFFSETFROM:-0400
TZOFFSETTO:-0500
TZNAME:EST
DTSTART:20181104T060000
END:STANDARD
END:VTIMEZONE
BEGIN:VEVENT
DTSTART;TZID=America/Toronto:20180613T190000
DTEND;TZID=America/Toronto:20180613T210000
DTSTAMP:20260420T070332
CREATED:20180528T024333Z
LAST-MODIFIED:20180528T024333Z
UID:13149-1528916400-1528923600@cabbagetowner.com
SUMMARY:Cabbagetown CRA Annual General Meeting
DESCRIPTION:Members (and friends!) of the CRA are invited to our Annual General Meeting. We gather at 7 p.m. for nibbles and each member gets a ticket for a beverage. We’re down to business at 7:30 p.m. to hear the year in review\, review finances and future plans\, and elect new board directors. We then return to socializing. Membership is $20/ annually per household to support all our activities. See you there! \n
URL:https://cabbagetowner.com/event/cabbagetown-cra-annual-general-meeting/
LOCATION:Stout Irish Pub\, 221 Carlton St.\, Toronto\, Ontario\, M5A 2L2\, Canada
END:VEVENT
END:VCALENDAR