BEGIN:VCALENDAR
VERSION:2.0
PRODID:-//Cabbagetown Residents Association - CRA - ECPv4.9.12//NONSGML v1.0//EN
CALSCALE:GREGORIAN
METHOD:PUBLISH
X-WR-CALNAME:Cabbagetown Residents Association - CRA
X-ORIGINAL-URL:https://cabbagetowner.com
X-WR-CALDESC:Events for Cabbagetown Residents Association - CRA
BEGIN:VTIMEZONE
TZID:America/Toronto
BEGIN:DAYLIGHT
TZOFFSETFROM:-0500
TZOFFSETTO:-0400
TZNAME:EDT
DTSTART:20180311T070000
END:DAYLIGHT
BEGIN:STANDARD
TZOFFSETFROM:-0400
TZOFFSETTO:-0500
TZNAME:EST
DTSTART:20181104T060000
END:STANDARD
END:VTIMEZONE
BEGIN:VEVENT
DTSTART;TZID=America/Toronto:20180718T180000
DTEND;TZID=America/Toronto:20180718T221500
DTSTAMP:20260419T190838
CREATED:20180624T130331Z
LAST-MODIFIED:20180624T130331Z
UID:13189-1531936800-1531952100@cabbagetowner.com
SUMMARY:BIA Movie Night at Riverdale Park West
DESCRIPTION: \nCabbagetown Movie In The Park kicks off at 6 p.m. with food stalls and a band in Riverdale Park West\, in front of Riverdale Farm\, 201 Winchester Street. Food stalls will feature Freshed Right Salad and Juice Bar\, Absolute Bakery and The Women’s Development Network with Yonge Street Mission. There is no admission fee. \nThe movie being screened at dusk (approx 8:45 p.m.) will be Fantastic Mr. Fox. Filmmaker Magazine says it is “a triumph in animated storytelling.” Featuring the voices of George Clooney\, Meryl Streep\, Bill Murray\, Owen Wilson\, and Jason Schwartzman\, this movie will appeal the the hearts of all ages. \nThe rain date is Wed. July 25. \n
URL:https://cabbagetowner.com/event/bia-movie-night-at-riverdale-park-west/
LOCATION:Riverdale Park West\, Southeast corner of Sumach and Winchester Streets\, Toronto\, ON\, Canada
END:VEVENT
END:VCALENDAR