BEGIN:VCALENDAR
VERSION:2.0
PRODID:-//Cabbagetown Residents Association - CRA - ECPv4.9.12//NONSGML v1.0//EN
CALSCALE:GREGORIAN
METHOD:PUBLISH
X-WR-CALNAME:Cabbagetown Residents Association - CRA
X-ORIGINAL-URL:https://cabbagetowner.com
X-WR-CALDESC:Events for Cabbagetown Residents Association - CRA
BEGIN:VTIMEZONE
TZID:America/Toronto
BEGIN:DAYLIGHT
TZOFFSETFROM:-0500
TZOFFSETTO:-0400
TZNAME:EDT
DTSTART:20180311T070000
END:DAYLIGHT
BEGIN:STANDARD
TZOFFSETFROM:-0400
TZOFFSETTO:-0500
TZNAME:EST
DTSTART:20181104T060000
END:STANDARD
END:VTIMEZONE
BEGIN:VEVENT
DTSTART;TZID=America/Toronto:20180714T110000
DTEND;TZID=America/Toronto:20180714T150000
DTSTAMP:20260419T220012
CREATED:20180624T161124Z
LAST-MODIFIED:20180625T080245Z
UID:13195-1531566000-1531580400@cabbagetowner.com
SUMMARY:51 Division Open House
DESCRIPTION: \nOur local police division is hosting an open house with the usual acoutrements of a summer fair (barbecue\, facepainting\, DJ) and some unique to policing (bike registration\, station tours including cell blocks\, K9 Unit.) They are promising both horses and sports cars. \n
URL:https://cabbagetowner.com/event/51-division-open-house-3/
LOCATION:51 Division\, 51 Parliament Street\, Toronto\, Canada
END:VEVENT
END:VCALENDAR